Workbook

Sheet 설명서
A1: 품질관리 프로그램 설명서
A3: 1. 개발사유
A4: 1 | B4: 건설현장 품질관리비용이 설계부터 법에서 정한 비용이 누락되어 있어 이를 적정하게 반영 하도록 본 프로그램을 만들었으며, 또한 설계자, 시공자, 감독이 편리하게 사용 및 확인하도록 만들었다.
A6: 2. 생산물은
A7: 가. | B7: 시공자용
A8: 1 | B8: 토목공사용
A9: 2 | B9: 건축공사용
A10: 3 | B10: 전문공사용
A12: 나. | B12: 설계자용
A13: 1 | B13: 토목공사용
A14: 2 | B14: 건축공사용
A15: 3 | B15: 전문공사용
A17: 3. 작업자 입력은
A18: 가. | B18: 단가셀
A19: 나. | B19: 수량셀
A21: 4. 시공자용에 포함되는 항목
A22: 가. | B22: 출력은 초급,중급, 고급, 특급 셀중 필요한 1개 셀만 출력합니다.
A23: 나. | B23: 셀은 단가, 수량, 초급,중급,고급,특급,시험계획셀로한다.
A25: 5. 설계자용에 포함되는 항목
A26: 가. | B26: 설계자용에는일반적인 시험 종목만 먼저 적용하였다.
A27: 나. | B27: 설계시방서에 일반적인 항목 외 특별히 규정한 항목이 있으면 추가하여야 한다.
A28: 다. | B28: 품질관리비 적용은 해당 품질등급에 필요한 것을 1개만 적용한다.
A29: 라. | B29: 필요한 시험 종목이 있으면 추가하여야 한다.
A30: 마. | B30: 시험 산출 이 필요하면 해당공종을 출력하여 설계서에 첨부하여야 한다.
A32: 6. 프로그램 만드는 방법
A33: 가. | B33: 입력셀, 출력셀 , 보여주는셀로 구성한다.
A34: 나. | B34: 입력셀, 출력셀 , 보여주는셀은 필요에 따라 삭제하거나 추가해야 할 공종들이있다.
A35: 다. | B35: 단가란 작성시에도 공종별로 작성하고 공종별로 필요 및 불필요시 삽입 삭제가 가능하도록 작성
A36: 라. | B36: 수량셀 삽입 삭제시 토공,구조물,교량등 에 있는 공종도 삽입 삭제가 가능하도록 연계되어야 한다.
A37: 마. | B37: 필요시 출력되는 부문과 출력 되지 않은 부분으로 작성되어야 한다.
A38: 바. | B38: 필요시 입력셀에 잠금장치가 필요함.

Sheet 품질비용
A1: 품질등급 | C1: 초급 품질 등급 현장
A3: 공 사 명 | C3: =+수량입력!$B$2 -> 서울 ~ 부산간 도로건설공사
A4: 공사금액 | D4: =+수량입력!$B$3 -> 1000000 | F4: 천원
A5: 공사기간 | D5: =+수량입력!$B$4 -> 24 | F5: 개월
A7: 품질관리비용 | C7: 합 계 | G7: =SUM(G8:G10) -> #REF!
C8: 1, 품질시험비 | G8: =+G27 -> #REF!
C9: 2. 품질 차량비 | G9: =+H33 -> 13858560
C10: 3. 품질활동비 | G10: =+H40 -> 0
A12: 1, 품질시험비
A13: 구 분 | B13: 공 종 | C13: 규 격 | D13: 단위 | E13: 수량 | F13: 단 가 | G13: 금액 | H13: 비 고
A14: 1 | B14: 토 공 | G14: =+'토 공'!$I$3 -> 7536360
A15: 2 | B15: 구조물공 | G15: =+구조물공!$I$4 -> 98064147
A16: 3 | B16: 교량공 | G16: =+#REF! -> #REF!
A17: 4 | B17: 포장공 | G17: =+#REF! -> #REF!
A18: 5 | B18: 철근강재 | G18: =+#REF! -> #REF!
A19: 6 | B19: 콘크리트 | G19: =+#REF! -> #REF!
A20: 7 | B20: 앵커 | G20: =+#REF! -> #REF!
A21: 8 | B21: 터널 | G21: =+#REF! -> #REF!
A22: 9 | B22: 연약지반 | G22: =+#REF! -> #REF!
A23: 10 | B23: 수리구조물 | G23: =+수리구조물!I3 -> 0
A24: 11 | B24: 부대공 | G24: =+부대공!I3 -> 4393680
A27: 계 | G27: =SUM(G14:G26) -> #REF!
A28: 2. 품질 차량비
A29: 구 분 | B29: 규격 | C29: 단위 | D29: 수량 | E29: 단가 | F29: 공기(월) | G29: (월) 단가 | H29: 금 액
A30: 차량 | B30: SUV 1500cc | C30: 대 | D30: 1 | E30: =+수량입력!$B$10 -> 500000 | F30: =+수량입력!$B$4 -> 24 | G30: =+E30 -> 500000 | H30: =+F30*G30 -> 12000000
A31: 월간 유류비 | B31: 경유 | C31: ㎖ | D31: =+수량입력!$C$12*22 -> 44 | E31: =+수량입력!$B$11 -> 1600 | F31: =+F30 -> 24 | G31: =+D31*E31 -> 70400 | H31: =+F31*G31 -> 1689600
A32: 유지관리비 | B32: 유류대의 10% | C32: 식 | D32: 1 | F32: =+F31 -> 24 | G32: 7040 | H32: =+F32*G32 -> 168960
A33: 계 | H33: =SUM(H30:H32) -> 13858560
A34: 3. 품질활동비
A35: 구 분 | B35: 규격 | C35: 중굽 | D35: 고급 | E35: 특급 | F35: 수량 | G35: 단가 | H35: 금액
A36: 인건비 | B36: 1 | C36: 0 | D36: 0 | E36: 0 | F36: =+F30 -> 24 | G36: 0 | H36: =+F36*G36 -> 0
A37: 문서작성비 | B37: 인건비의 1% | C37: 0 | D37: 0 | E37: 0 | F37: 1 | G37: 0 | H37: =+F37*G37 -> 0
A38: 교육훈련비 | B38: 인건비의 1% | C38: 0 | D38: 0 | E38: 0 | F38: =+F37 -> 1 | G38: 0 | H38: =+F38*G38 -> 0
A39: 품질검사비 | B39: 인건비의 1% | C39: 0 | D39: 0 | E39: 0 | F39: =+F38 -> 1 | G39: 0 | H39: =+F39*G39 -> 0
A40: 계 | H40: =SUM(H36:H39) -> 0
A43: 품질등급 | C43: 중급 품질 등급 현장
A45: 공 사 명 | C45: =+수량입력!$B$2 -> 서울 ~ 부산간 도로건설공사
A46: 공사금액 | D46: =+수량입력!$B$3 -> 1000000 | F46: 천원
A47: 공사기간 | D47: =+수량입력!$B$4 -> 24 | F47: 개월
A49: 품질관리비용 | C49: 합 계 | G49: =SUM(G50:G52) -> #REF!
...

Sheet 계획서
B1: 품질 시험 계획서
B4: =+수량입력!B2 -> 서울 ~ 부산간 도로건설공사
C10: =+수량입력!B17 -> 대한건설
C13: 목 차
B15: 1. 공사개요
B17: 2. 시험 계획
B19: 3. 시험시설
B21: 4. 건설기술인 배치계획
B23: 5. 첨부사항
B25: 1. 공사 개요
A27: 가. 공 사 명 : | D27: =+B4 -> 서울 ~ 부산간 도로건설공사
A28: 나. 공사 금액 : | D28: =+수량입력!B3 -> 1000000 | F28: =+수량입력!D3 -> 천원
A29: 다. 공사기간 : | D29: =+수량입력!B4 -> 24 | F29: =+수량입력!D4 -> 개월
A30: 라. 공사위치 : | D30: =+수량입력!B5 -> 부산시 금정구
A31: 마. 시 공 자 : | D31: =+수량입력!B17 -> 대한건설
A32: 바. 현장대리인 : | D32: =+수량입력!B18 -> 김대장
A33: 사. 주요공정 : | D33: =+수량입력!B6 -> 연장 | E33: =+수량입력!C6 -> 50 | F33: =+수량입력!D6 -> Km
D34: =+수량입력!B7 -> 포장폭 | E34: =+수량입력!C7 -> 24 | F34: =+수량입력!D7 -> m
D35: =+수량입력!B8 -> 교량 | E35: =+수량입력!C8 -> 5 | F35: =+수량입력!D8 -> 개소
D36: =+수량입력!B9 -> 옹벽 | E36: =+수량입력!C9 -> 3 | F36: =+수량입력!D9 -> 개소
B38: 2. 시험 계획 | C38: 공종별 산출내역 출력 첨부
B41: 3. 시험 시설
A43: 장 비 명 | C43: 규격 | D43: 단위 | E43: 수량 | F43: 비 고
A44: 급속함수량 시험기 | D44: 대 | E44: 1
A45: 스럼프 테스트 기기 | D45: " | E45: 1
A46: 공기량 시험기 | D46: " | E46: 1
A47: 공시체 몰드 | C47: Ø100*200 | D47: 조 | E47: 3
A48: 함수량 캔 | C48: 소형 | D48: 대 | E48: 20
A49: 건조로 | C49: 소형 | D49: " | E49: 1
A50: 품질차량 | C50: SUV 1500CC | D50: " | E50: 1
B53: 4. 건설기술인 배치계획
B55: 초급품질등급현장
A57: 성 명 | B57: 품질 등급 | C57: 업무수행 | D57: 자격 | E57: 학력 | F57: 비고
A58: =+수량입력!B23 -> 초품질 | B58: =+수량입력!A23 -> 초급관리자 | C58: =+수량입력!C23 -> 2년 1월 | D58: =+수량입력!D23 -> 건설재료기능사 | E58: =+수량입력!E23 -> 고졸
B62: 4. 건설기술인 배치계획
B64: 중급품질등급현장
A66: 성명 | B66: 품질 등급 | C66: 업무수행 | D66: 자격 | E66: 학력 | F66: 비고
A67: =+수량입력!B22 -> 중품질 | B67: =+수량입력!A22 -> 중급관리자 | C67: =+수량입력!C22 -> 6년 7월 | D67: =+수량입력!D22 -> 재료산업기사 | E67: =+수량입력!E22 -> 전문대졸
A68: =+수량입력!B23 -> 초품질 | B68: =+수량입력!A23 -> 초급관리자 | C68: =+수량입력!C23 -> 2년 1월 | D68: =+수량입력!D23 -> 건설재료기능사 | E68: =+수량입력!E23 -> 고졸
B70: 4. 건설기술인 배치계획
...

Sheet 수량입력
A1: ※ 색상(연두색) 이 있는 부분만 기재해 주세요.
A2: 공사명 | B2: 서울 ~ 부산간 도로건설공사 | H2: 설계사 입력
A3: 공사금액 | B3: 1000000 | D3: 천원
A4: 공사기간 | B4: 24 | D4: 개월
A5: 공사위치 | B5: 부산시 금정구
A6: 주요공종 | B6: 연장 | C6: 50 | D6: Km
B7: 포장폭 | C7: 24 | D7: m
B8: 교량 | C8: 5 | D8: 개소
B9: 옹벽 | C9: 3 | D9: 개소
A10: 차량임대비 | B10: 500000 | D10: 원 | E10: 24년 1500cc SUV
A11: 유류대 | B11: 1600 | D11: 원/L | E11: 26년 1월 s오일
A12: 1일 유류사용 | C12: 2 | D12: L
A13: 노임 | B13: 단위 | C13: 특급관리자 | D13: 고급관리자 | E13: 중급관리자 | F13: 초급관리자 | G13: 비 고
A14: 26년 상반기 | B14: 1일노임 | C14: 373353 | D14: 310884 | E14: 295138 | F14: 235459
A15: 월임금 | B15: 20.3 | C15: =+INT(C14*B15) -> 7579065 | D15: =+INT(D14*B15) -> 6310945 | E15: =+INT(E14*B15) -> 5991301 | F15: =+INT(F14*B15) -> 4779817 | G15: 20.3일 적용
A17: 시공사 | B17: 대한건설 | H17: 시공사 입력
A18: 현장대리인 | B18: 김대장
A19: 품질관리자 | B19: 성명 | C19: 경력 | D19: 자격 | E19: 학력
A20: 특급관리자 | B20: 특품질 | C20: 15년 1월 | D20: 건설재료기사 | E20: 대졸
A21: 고급관리자 | B21: 고품질 | C21: 12년 3월 | D21: 건설재료기사 | E21: 대졸
A22: 중급관리자 | B22: 중품질 | C22: 6년 7월 | D22: 재료산업기사 | E22: 전문대졸
A23: 초급관리자 | B23: 초품질 | C23: 2년 1월 | D23: 건설재료기능사 | E23: 고졸
A25: 1.토공 설계내역
A26: 구 분 | B26: 공 종 | C26: 단위 | D26: 설계량 | E26: 비 고
A27: 토 공 | B27: 토취장 | C27: 개소 | D27: 1
B28: 골재원 | C28: 개소 | D28: 1
B29: 노체 | C29: ㎥ | D29: 19000
B30: 노상 | C30: ㎥ | D30: 11000
B31: 동상방지층 | C31: 개소 | D31: 500
B32: 차선 | C32: 왕복 차선 | D32: 4
B33: 포장연장 | C33: Km | D33: 3
A34: 2.구조물공 설계내역
A35: 2-1 통로및 배수 BOX
A36: 구 분 | B36: 번호(종류) | C36: 설계량 | D36: 높이규격 | E36: 신축죠인트 | F36: 박스규격(B*H) | G36: 뒷채움
A37: 직접기초 | B37: 1 | C37: 1 | D37: 1.8 | E37: 1 | F37: 1.8*1.8 | G37: =+INT(D37/0.6)*2 -> 6
B38: 2 | C38: 2 | D38: 2 | E38: 2 | F38: 2.5*2.0 | G38: =+INT(D38/0.6)*2 -> 6
B39: 3 | C39: 2 | D39: 2.3 | E39: 1 | F39: 2.0*2.3 | G39: =+INT(D39/0.6)*2 -> 6
B40: 4 | C40: 1 | D40: 2.5 | F40: 2.0*2.5 | G40: =+INT(D40/0.6)*2 -> 8
B41: 5 | C41: 1 | D41: 3.5 | F41: 3.0*3.5 | G41: =+INT(D41/0.6)*2 -> 10
B42: 소 계 | C42: =SUM(C37:C41) -> 7 | D42: =+C37*D37+C38*D38+C39*D39+C40*D40 -> 12.9 | E42: =SUM(E37:E41) -> 4 | G42: =SUM(G37:G41) -> 36
...

Sheet 목차 
A1: 구분 | B1: 공종
A3: 1. 토공 | B3: 토취장
B4: 노체
B5: 노상
B6: 동상방지층
A8: 2. 구조물공 | B8: 배수 통로BOX
B9: 옹벽구조물
B10: 집수정
B11: 배수관
B12: 비계동바리
B13: 거푸집
A15: 10. 수리구조물
A16: 흙댐 | B16: 중심점토
B17: 역학시험
A18: 제방 | B18: 성토
B19: 호안블럭
B20: 돌망태
B21: 석재
A22: 상수관로 | B22: 재료
B23: 다짐
A24: 하수관로 | B24: 재료
B25: 다짐
A26: 배수로 | B26: 스틸그레이팅
A28: 11. 부대공
A29: 보차도용 자재 | B29: 인터로킹 블록
B30: 콘크리트 경계석
B31: 석재 경계석
A32: 가드레일 | B32: 레일,지주
A33: 도로부대시설 | B33: 가드휀스
B34: 낙석방지울타리
B35: 낙석방지망
B36: 도로표지판

Sheet 토 공
A1: 1. 토 공 시험 비용 산출근거
A2: 구 분 | B2: 공 종 | C2: 시 험 종 목 | D2: 시 험 빈 도 | E2: 설계수량 | F2: 단위량 | G2: 시험횟수 | H2: 단가 | I2: 금액 | J2: 비 고 | L2: KCL 단가 | M2: KTR 단가 | N2: KSTR 단가 | O2: 표준단가 | Q2: 중간값 | R2: median
A3: 토공 시험비용 합계 | I3: =+I13+I21+I24+I28 -> 7536360 | Q3: 평균값 | R3: average
A4: 흙 깍기 | B4: 토취장 | C4: 함수비 | D4: 토취장 마다 | E4: =+수량입력!D27 -> 1 | F4: 1 | G4: =+E4*F4 -> 1 | H4: =MAX($L4,$M4,$N4,$O4) -> 15400 | I4: =+G4*H4 -> 15400 | L4: 11000 | M4: 10500 | N4: 10000 | O4: 15400 | Q4: 최소값 | R4: min
C5: 입도 | G5: =+G4 -> 1 | H5: =MAX($L5,$M5,$N5,$O5) -> 180000 | I5: =+G5*H5 -> 180000 | L5: 165000 | M5: 160000 | N5: 180000 | O5: 51040 | Q5: 최대값 | R5: max
C6: 0.08mm 체 통과량 | G6: =+G5 -> 1 | H6: =MAX($L6,$M6,$N6,$O6) -> 32000 | I6: =+G6*H6 -> 32000 | L6: 32000 | M6: 30000 | N6: 30000 | O6: 21840
C7: 밀도 | G7: =+G6 -> 1 | H7: =MAX($L7,$M7,$N7,$O7) -> 35000 | I7: =+G7*H7 -> 35000 | L7: 35000 | M7: 33000 | N7: 30000 | O7: 31200
C8: 액성한계 | G8: =+G7 -> 1 | H8: =MAX($L8,$M8,$N8,$O8) -> 45000 | I8: =+G8*H8 -> 45000 | L8: 45000 | M8: 42000 | N8: 40000 | O8: 43120
C9: 소성한계 | G9: =+G8 -> 1 | H9: =MAX($L9,$M9,$N9,$O9) -> 43120 | I9: =+G9*H9 -> 43120 | L9: 40000 | M9: 40000 | N9: 40000 | O9: 43120
C10: CBR | G10: =+G9 -> 1 | H10: =MAX($L10,$M10,$N10,$O10) -> 320000 | I10: =+G10*H10 -> 320000 | L10: 320000 | M10: 315000 | N10: 260000 | O10: 187200
C11: 다짐시험 (노체용) | G11: =+G10 -> 1 | H11: =MAX($L11,$M11,$N11,$O11) -> 145000 | I11: =+G11*H11 -> 145000 | L11: 145000 | M11: 142000 | N11: 140000 | O11: 61440
C12: 다짐시험 (노상용) | G12: =+G11 -> 1 | H12: =MAX($L12,$M12,$N12,$O12) -> 145000 | I12: =+G12*H12 -> 145000 | L12: 145000 | M12: 142000 | N12: 140000 | O12: 61440
A13: 소계 | I13: =SUM(I4:I12) -> 960520
A14: 골재원 | B14: 동상방지층 | C14: 0.08mm 체 통과량 | D14: 골재원 마다 | E14: =+수량입력!D28 -> 1 | F14: 1 | G14: =+E14*F14 -> 1 | H14: =MAX($L14,$M14,$N14,$O14) -> 32000 | I14: =+G14*H14 -> 32000 | L14: 32000 | M14: 30000 | N14: 30000 | O14: 21840
C15: 밀도 및 흡수율 | G15: =+G14 -> 1 | H15: =MAX($L15,$M15,$N15,$O15) -> 40000 | I15: =+G15*H15 -> 40000 | L15: 40000 | M15: 38000 | N15: 38000 | O15: 31200
C16: 마모 | G16: =+G15 -> 1 | H16: =MAX($L16,$M16,$N16,$O16) -> 56240 | I16: =+G16*H16 -> 56240 | L16: 42000 | M16: 44000 | N16: 42000 | O16: 56240
C17: CBR | G17: =+G16 -> 1 | H17: =MAX($L17,$M17,$N17,$O17) -> 320000 | I17: =+G17*H17 -> 320000 | L17: 320000 | M17: 315000 | N17: 260000 | O17: 187200
C18: 다짐 | G18: =+G17 -> 1 | H18: =MAX($L18,$M18,$N18,$O18) -> 145000 | I18: =+G18*H18 -> 145000 | L18: 145000 | M18: 142000 | N18: 140000 | O18: 61440
C19: 체가름 | G19: =+G18 -> 1 | H19: =MAX($L19,$M19,$N19,$O19) -> 180000 | I19: =+G19*H19 -> 180000 | L19: 165000 | M19: 160000 | N19: 180000 | O19: 51040
C20: 함수비 | G20: =+G19 -> 1 | H20: =MAX($L20,$M20,$N20,$O20) -> 15400 | I20: =+G20*H20 -> 15400 | L20: 11000 | M20: 10500 | N20: 10000 | O20: 15400
A21: 소계 | I21: =SUM(I14:I20) -> 788640
A22: 성토 | B22: 노체 | C22: 들밀도 | D22: 2,000㎥ 마다 | E22: =+수량입력!D29 -> 19000 | F22: 2000 | G22: =+E22/F22 -> 9.5 | H22: =MAX($L22,$M22,$N22,$O22) -> 97000 | I22: =+G22*H22 -> 921500 | L22: 97000 | M22: 95000 | N22: 97000 | O22: 36400
C23: 함수비 | G23: =+G22 -> 9.5 | H23: =MAX($L23,$M23,$N23,$O23) -> 15400 | I23: =+G23*H23 -> 146300 | L23: 11000 | M23: 10500 | N23: 10000 | O23: 15400
A24: 소계 | I24: =SUM(I22:I23) -> 1067800
A25: 성토 | B25: 노상 | C25: 도로평판 | D25: 1,000㎥ 마다 | E25: =+수량입력!D30 -> 11000 | F25: 1000 | G25: =+E25/F25 -> 11 | H25: =MAX($L25,$M25,$N25,$O25) -> 250000 | I25: =+G25*H25 -> 2750000 | J25: 차선 1Km당3회 1회 적용 | L25: 250000 | M25: 250000 | N25: 250000 | O25: 156000
C26: 함수비 | G26: =+G25 -> 11 | H26: =MAX($L26,$M26,$N26,$O26) -> 15400 | I26: =+G26*H26 -> 169400 | L26: 11000 | M26: 10500 | N26: 10000 | O26: 15400
C27: proof rolling | D27: 차선수× 연장 | E27: =+수량입력!D32*수량입력!D33 -> 12 | F27: 1 | G27: =+E27*F27 -> 12 | H27: =MAX($L27,$M27,$N27,$O27) -> 150000 | I27: =+G27*H27 -> 1800000 | L27: 150000 | M27: 150000 | N27: 150000 | O27: 별도 협의
A28: 소계 | I28: =SUM(I25:I27) -> 4719400

Sheet 구조물공
B1: 2. 구조물공 비용 산출 근거
B2: 1. 배수 통로BOX
A3: 구분 | B3: 공 종 | C3: 시험종목 | D3: 시 험 빈도 | E3: 설계량 | F3: 단위량 | G3: 시험횟수 | H3: 단가 | I3: 금액 | J3: 비고 | L3: KCL 단가 | M3: KTR 단가 | N3: KSTR 단가 | O3: 표준단가
A4: 구조물공 시험비용비용 합계 | I4: =+I21+I40+I50+I60+I69+I76+I82 -> 98064147
A5: 배수 통로BOX | B5: 콘크리트 | C5: 슬럼프 | D5: 1개소 30m당 5회/개소당 | E5: =+수량입력!C42+수량입력!E42+수량입력!C48+수량입력!E48 -> 17 | F5: 5 | G5: =+E5*F5 -> 85 | H5: =MAX($L5,$M5,$N5,$O5) -> 55000 | I5: =+G5*H5 -> 4675000 | J5: (버림, 바닥,구체, 날개벽 2개소) | L5: 55000 | M5: 50000 | N5: 50000 | O5: 23400
C6: 공기량 | G6: =+G5 -> 85 | H6: =MAX($L6,$M6,$N6,$O6) -> 55000 | I6: =+G6*H6 -> 4675000 | L6: 55000 | M6: 50000 | N6: 50000 | O6: 23400
C7: 염화물 함유량 | G7: =+G6 -> 85 | H7: =MAX($L7,$M7,$N7,$O7) -> 35000 | I7: =+G7*H7 -> 2975000 | L7: 35000 | M7: 33000 | N7: 30000 | O7: 31200
C8: 공시체 제작 | G8: =+G7 -> 85 | H8: =MAX($L8,$M8,$N8,$O8) -> 25000 | I8: =+G8*H8 -> 2125000 | L8: 25000 | M8: 25000 | N8: 22000 | O8: 15600
C9: 압축강도 | G9: =+G8 -> 85 | H9: =MAX($L9,$M9,$N9,$O9) -> 22000 | I9: =+G9*H9 -> 1870000 | L9: 22000 | M9: 21000 | N9: 20000 | O9: 11440
C10: 단위수량 | G10: =+G9 -> 85 | H10: =MAX($L10,$M10,$N10,$O10) -> 150000 | I10: =+G10*H10 -> 12750000 | L10: 150000 | M10: 150000 | N10: 140000 | O10: 46800
B11: 뒷채움재 | C11: 0.08mm 체 통과량 | D11: 골재원 마다 재질변화시 마다 | E11: =+IF(E5>0.1,1,0) -> 1 | F11: 1 | G11: =+E11*F11 -> 1 | H11: =MAX($L11,$M11,$N11,$O11) -> 32000 | I11: =+G11*H11 -> 32000 | L11: 32000 | M11: 30000 | N11: 30000 | O11: 21840
C12: 골재의 밀도 및 흡수율 | G12: =+$G$11 -> 1 | H12: =MAX($L12,$M12,$N12,$O12) -> 40000 | I12: =+G12*H12 -> 40000 | L12: 40000 | M12: 38000 | N12: 38000 | O12: 31200
C13: 마모 | G13: =+$G$11 -> 1 | H13: =MAX($L13,$M13,$N13,$O13) -> 56240 | I13: =+G13*H13 -> 56240 | L13: 42000 | M13: 44000 | N13: 42000 | O13: 56240
C14: CBR | G14: =+$G$11 -> 1 | H14: =MAX($L14,$M14,$N14,$O14) -> 320000 | I14: =+G14*H14 -> 320000 | L14: 320000 | M14: 315000 | N14: 260000 | O14: 187200
C15: 다짐 | G15: =+$G$11 -> 1 | H15: =MAX($L15,$M15,$N15,$O15) -> 145000 | I15: =+G15*H15 -> 145000 | L15: 145000 | M15: 142000 | N15: 140000 | O15: 61440
C16: 체가름 | G16: =+$G$11 -> 1 | H16: =MAX($L16,$M16,$N16,$O16) -> 180000 | I16: =+G16*H16 -> 180000 | L16: 165000 | M16: 160000 | N16: 180000 | O16: 51040
B17: 뒷채움 | C17: 들밀도 | D17: 3층 당 1회 | E17: =+수량입력!G42+수량입력!G48 -> 68 | F17: 0.6 | G17: =+E17/F17 -> 113.33333 | H17: =MAX($L17,$M17,$N17,$O17) -> 97000 | I17: =+G17*H17 -> 10993333 | J17: BOX 높이* 개소수*-양쪽 | L17: 97000 | M17: 95000 | N17: 97000 | O17: 36400
C18: 함수비 | G18: =+$G$17 -> 113.33333 | H18: =MAX($L18,$M18,$N18,$O18) -> 15400 | I18: =+G18*H18 -> 1745333.3 | L18: 11000 | M18: 10500 | N18: 10000 | O18: 15400
B19: 재하시험 | C19: 평판재하 | D19: 개소당 1회 | E19: =+수량입력!C42 -> 7 | F19: 1 | G19: =+E19*F19 -> 7 | H19: =MAX($L19,$M19,$N19,$O19) -> 250000 | I19: =+G19*H19 -> 1750000 | L19: 250000 | M19: 250000 | N19: 250000 | O19: 156000
C20: 동재하 | D20: 개소당 1회 | E20: =+수량입력!C48 -> 4 | F20: 1 | G20: =+E20*F20 -> 4 | H20: =MAX($L20,$M20,$N20,$O20) -> 728000 | I20: =+G20*H20 -> 2912000 | L20: 350000 | M20: 350000 | N20: 350000 | O20: 728000
A21: 소 계 | I21: =SUM(I5:I20) -> 47243907
B22: 2. 옹벽구조물
A23: 구분 | B23: 구 분 | C23: 시 험 종 목 | D23: 시 험 빈 도 | E23: 설계수량 | F23: 단위량 | G23: 시험횟수 | H23: 단가 | I23: 금액 | J23: 비고
A24: 옹벽구조물 | B24: 터파기 | C24: 구조물 평판 | D24: 개소당 1회 | E24: =+수량입력!C55+수량입력!F55 -> 9 | F24: 1 | G24: =+E24*F24 -> 9 | H24: =MAX($L24,$M24,$N24,$O24) -> 250000 | I24: =+G24*H24 -> 2250000 | L24: 250000 | M24: 250000 | N24: 250000 | O24: 156000
C25: 동재하 | D25: 개소당 1회 | E25: =+수량입력!C60 -> 5 | F25: 1 | G25: =+E25*F25 -> 5 | H25: =MAX($L25,$M25,$N25,$O25) -> 728000 | I25: =+G25*H25 -> 3640000 | L25: 350000 | M25: 350000 | N25: 350000 | O25: 728000
B26: 콘크리트 타설 | C26: 슬럼프 | D26: 30 m 당 죠인트당 3회 | E26: =+수량입력!C55+수량입력!F55+수량입력!C60+수량입력!F60 -> 19 | F26: 3 | G26: =+INT(E26*F26) -> 57 | H26: =MAX($L26,$M26,$N26,$O26) -> 23400 | I26: =+G26*H26 -> 1333800 | J26: (버림, 바닥,벽체, | L26: 15000 | M26: 14000 | N26: 13000 | O26: 23400
C27: 공기량 | G27: =+G26 -> 57 | H27: =MAX($L27,$M27,$N27,$O27) -> 23400 | I27: =+G27*H27 -> 1333800 | L27: 15000 | M27: 14000 | N27: 13000 | O27: 23400
C28: 염화물 함유량 | G28: =+G27 -> 57 | H28: =MAX($L28,$M28,$N28,$O28) -> 35000 | I28: =+G28*H28 -> 1995000 | L28: 35000 | M28: 33000 | N28: 30000 | O28: 31200
C29: 공시체 제작 | G29: =+G28 -> 57 | H29: =MAX($L29,$M29,$N29,$O29) -> 25000 | I29: =+G29*H29 -> 1425000 | L29: 25000 | M29: 25000 | N29: 22000 | O29: 15600
C30: 압축강도 | G30: =+G29 -> 57 | H30: =MAX($L30,$M30,$N30,$O30) -> 22000 | I30: =+G30*H30 -> 1254000 | L30: 22000 | M30: 21000 | N30: 20000 | O30: 11440
C31: 단위수량 | G31: =+G30 -> 57 | H31: =MAX($L31,$M31,$N31,$O31) -> 150000 | I31: =+G31*H31 -> 8550000 | L31: 150000 | M31: 150000 | N31: 140000 | O31: 46800
B32: 뒷채움 재료 | C32: 0.08mm 체 통과량 | D32: 골재원 마다 재질변화시 마다 | E32: =+IF(E26>0.1,1,0) -> 1 | F32: 1 | G32: =+E32*F32 -> 1 | H32: =MAX($L32,$M32,$N32,$O32) -> 32000 | I32: =+G32*H32 -> 32000 | L32: 32000 | M32: 30000 | N32: 30000 | O32: 21840
C33: 골재의 밀도 및 흡수율 | G33: =+$G$32 -> 1 | H33: =MAX($L33,$M33,$N33,$O33) -> 40000 | I33: =+G33*H33 -> 40000 | L33: 40000 | M33: 38000 | N33: 38000 | O33: 31200
C34: 마모 | G34: =+$G$32 -> 1 | H34: =MAX($L34,$M34,$N34,$O34) -> 56240 | I34: =+G34*H34 -> 56240 | L34: 42000 | M34: 44000 | N34: 42000 | O34: 56240
C35: CBR | G35: =+$G$32 -> 1 | H35: =MAX($L35,$M35,$N35,$O35) -> 320000 | I35: =+G35*H35 -> 320000 | L35: 320000 | M35: 315000 | N35: 260000 | O35: 187200
C36: 다짐 | G36: =+$G$32 -> 1 | H36: =MAX($L36,$M36,$N36,$O36) -> 145000 | I36: =+G36*H36 -> 145000 | L36: 145000 | M36: 142000 | N36: 140000 | O36: 61440
C37: 체가름 | G37: =+$G$32 -> 1 | H37: =MAX($L37,$M37,$N37,$O37) -> 180000 | I37: =+G37*H37 -> 180000 | L37: 165000 | M37: 160000 | N37: 180000 | O37: 51040
B38: 뒷채움 포설 | C38: 들밀도 | D38: 50m당, 3층 당 1회 | E38: =+수량입력!G55+수량입력!G60 -> 40 | F38: 1 | G38: =+E38*F38 -> 40 | H38: =MAX($L38,$M38,$N38,$O38) -> 97000 | I38: =+G38*H38 -> 3880000 | L38: 97000 | M38: 95000 | N38: 97000 | O38: 36400
C39: 함수비 | G39: =+G38 -> 40 | H39: =MAX($L39,$M39,$N39,$O39) -> 15400 | I39: =+G39*H39 -> 616000 | L39: 11000 | M39: 10500 | N39: 10000 | O39: 15400
A40: 소 계 | I40: =SUM(I24:I39) -> 27050840
...

Sheet 수리구조물
A1: 10. 수리구조물공 비용 산출근거
A2: 구 분 | B2: 공 종 | C2: 시 험 종 목 | D2: 시 험 빈 도 | E2: 설계수량 | F2: 단위량 | G2: 시험횟수 | H2: 단가 | I2: 금액 | J2: 비 고 | L2: KCL 단가 | M2: KTR 단가 | N2: KSTR 단가 | O2: 표준단가
A3: 수리구조물공 비용 합계
A4: 댐 | I4: =+I10+I21+I26+I33 -> #REF!
A5: 기초지반처리 | B5: 그라우트 | C5: 컨시스턴시 | D5: 1회/5공*1일 | E5: =+수량입력!F95 -> 120 | F5: 5 | G5: =+INT(E5/F5)+1 -> 25 | H5: =MAX($L5,$M5,$N5,$O5) -> 41600 | I5: =+G5*H5 -> 1040000 | L5: 40000 | M5: 38000 | N5: 35000 | O5: 41600
C6: 공시체 제작 | G6: =+G5 -> 25 | H6: =MAX($L6,$M6,$N6,$O6) -> 26000 | I6: =+G6*H6 -> 650000 | L6: 25000 | M6: 25000 | N6: 22000 | O6: 26000
C7: 염화물 함유량 | G7: =+G6 -> 25 | H7: =MAX($L7,$M7,$N7,$O7) -> 36400 | I7: =+G7*H7 -> 910000 | L7: 35000 | M7: 33000 | N7: 30000 | O7: 36400
C8: 블리딩 및 팽창율 | G8: =+G7 -> 25 | H8: =MAX($L8,$M8,$N8,$O8) -> 130000 | I8: =+G8*H8 -> 3250000 | L8: 130000 | M8: 125000 | N8: 120000 | O8: 52000
C9: 압축강도 | G9: =+G8 -> 25 | H9: =MAX($L9,$M9,$N9,$O9) -> 62400 | I9: =+G9*H9 -> 1560000 | L9: 22000 | M9: 21000 | N9: 20000 | O9: 62400
B10: 소 계 | I10: =SUM(I5:I9) -> 7410000
A11: 댐 | B11: 댐 성토 | C11: 함수비 | D11: ·재질변화시마다 | E11: =+IF(수량입력!F96>0.1,1,0) -> 1 | F11: 1 | G11: =+E11*F11 -> 1 | H11: =MAX($L11,$M11,$N11,$O11) -> 15400 | I11: =+G11*H11 -> 15400 | L11: 15000 | M11: 14000 | N11: 13000 | O11: 15400
C12: 입도 | G12: =+G11 -> 1 | H12: =MAX($L12,$M12,$N12,$O12) -> 180000 | I12: =+G12*H12 -> 180000 | L12: 165000 | M12: 160000 | N12: 180000 | O12: 51040
C13: 0.08mm 체 통과량 | G13: 1 | H13: =MAX($L13,$M13,$N13,$O13) -> 32000 | I13: =+G13*H13 -> 32000 | L13: 32000 | M13: 30000 | N13: 30000 | O13: 21840
C14: 밀도 | G14: 1 | H14: =MAX($L14,$M14,$N14,$O14) -> 35000 | I14: =+G14*H14 -> 35000 | L14: 35000 | M14: 33000 | N14: 30000 | O14: 31200
C15: 액성한계 | G15: 1 | H15: =MAX($L15,$M15,$N15,$O15) -> 45000 | I15: =+G15*H15 -> 45000 | L15: 45000 | M15: 42000 | N15: 40000 | O15: 43120
C16: 소성한계 | G16: 1 | H16: =MAX($L16,$M16,$N16,$O16) -> 43120 | I16: =+G16*H16 -> 43120 | L16: 40000 | M16: 40000 | N16: 40000 | O16: 43120
C17: 유기물함유량 | G17: 1 | H17: =MAX($L17,$M17,$N17,$O17) -> 21000 | I17: =+G17*H17 -> 21000 | L17: 21000 | O17: 20000
C18: 다짐 | G18: =+G17 -> 1 | H18: =MAX($L18,$M18,$N18,$O18) -> 61440 | I18: =+G18*H18 -> 61440 | L18: 55000 | M18: 52000 | N18: 50000 | O18: 61440
C19: 투수 | G19: =+G18 -> 1 | H19: =MAX($L19,$M19,$N19,$O19) -> 124800 | I19: =+G19*H19 -> 124800 | L19: 60000 | M19: 58000 | N19: 55000 | O19: 124800
C20: 현장밀도 또는 포화도(점질토) | D20: ·층별 500미터마다. | E20: =+수량입력!#REF! -> #REF! | F20: 500 | G20: =+INT(E20/F20)+1 -> #REF! | H20: =MAX($L20,$M20,$N20,$O20) -> 52000 | I20: =+G20*H20 -> #REF! | L20: 35000 | M20: 33000 | N20: 30000 | O20: 52000
B21: 소 계 | I21: =SUM(I11:I20) -> #REF!
A22: 흙댐 | B22: 중심점토 | C22: 함수비 | D22: ·토량 300㎥마다 | E22: =+수량입력!F97 -> 2400 | F22: 300 | G22: =+INT(E22/F22)+1 -> 9 | H22: =MAX($L22,$M22,$N22,$O22) -> 15400 | I22: =+G22*H22 -> 138600 | L22: 15000 | M22: 14000 | N22: 13000 | O22: 15400
C23: 다짐 | G23: =+G22 -> 9 | H23: =MAX($L23,$M23,$N23,$O23) -> 61440 | I23: =+G23*H23 -> 552960 | L23: 55000 | M23: 52000 | N23: 50000 | O23: 61440
C24: 투수 | G24: =+G23 -> 9 | H24: =MAX($L24,$M24,$N24,$O24) -> 124800 | I24: =+G24*H24 -> 1123200 | L24: 60000 | M24: 58000 | N24: 55000 | O24: 124800
C25: 현장밀도 | D25: ·매층, 토량 300㎥마다 | E25: =+수량입력!F97 -> 2400 | F25: 300 | G25: =+INT(E25/F25)+1 -> 9 | H25: =MAX($L25,$M25,$N25,$O25) -> 52000 | I25: =+G25*H25 -> 468000 | L25: 35000 | M25: 33000 | N25: 30000 | O25: 52000
B26: 소 계 | I26: =SUM(I22:I25) -> 2282760
A27: 콘크리트 | B27: 콘크리트 타설 | C27: 슬럼프 | D27: 120㎥마다 | E27: =+수량입력!F98 -> 6000 | F27: 120 | G27: =+E27/F27 -> 50 | H27: =MAX($L27,$M27,$N27,$O27) -> 23400 | I27: =+G27*H27 -> 1170000 | L27: 15000 | M27: 14000 | N27: 13000 | O27: 23400
C28: 공기량 | G28: =+G27 -> 50 | H28: =MAX($L28,$M28,$N28,$O28) -> 23400 | I28: =+G28*H28 -> 1170000 | L28: 15000 | M28: 14000 | N28: 13000 | O28: 23400
C29: 염화물 함유량 | G29: =+G28 -> 50 | H29: =MAX($L29,$M29,$N29,$O29) -> 35000 | I29: =+G29*H29 -> 1750000 | L29: 35000 | M29: 33000 | N29: 30000 | O29: 31200
C30: 공시체 제작 | G30: =+G29 -> 50 | H30: =MAX($L30,$M30,$N30,$O30) -> 25000 | I30: =+G30*H30 -> 1250000 | L30: 25000 | M30: 25000 | N30: 22000 | O30: 15600
C31: 압축강도 | G31: =+G30 -> 50 | H31: =MAX($L31,$M31,$N31,$O31) -> 22000 | I31: =+G31*H31 -> 1100000 | L31: 22000 | M31: 21000 | N31: 20000 | O31: 11440
C32: 단위수량 | G32: =+G31 -> 50 | H32: =MAX($L32,$M32,$N32,$O32) -> 150000 | I32: =+G32*H32 -> 7500000 | L32: 150000 | M32: 150000 | N32: 140000 | O32: 46800
B33: 소 계 | I33: =SUM(I27:I32) -> 13940000
A34: 제방 | I34: =+I45+I50+I58 -> 7137840
A35: 제방 | B35: 축제성토공 | C35: 함수비 | D35: ·재질변화시마다 | E35: =+IF(수량입력!F99>0.1,1,0) -> 1 | F35: 1 | G35: =+E35*F35 -> 1 | H35: =MAX($L35,$M35,$N35,$O35) -> 15400 | I35: =+G35*H35 -> 15400 | L35: 15000 | M35: 14000 | N35: 13000 | O35: 15400
C36: 입도 | G36: 1 | H36: =MAX($L36,$M36,$N36,$O36) -> 180000 | I36: =+G36*H36 -> 180000 | L36: 165000 | M36: 160000 | N36: 180000 | O36: 51040
C37: 0.08mm 체 통과량 | G37: 1 | H37: =MAX($L37,$M37,$N37,$O37) -> 32000 | I37: =+G37*H37 -> 32000 | L37: 32000 | M37: 30000 | N37: 30000 | O37: 21840
C38: 밀도 | G38: 1 | H38: =MAX($L38,$M38,$N38,$O38) -> 35000 | I38: =+G38*H38 -> 35000 | L38: 35000 | M38: 33000 | N38: 30000 | O38: 31200
C39: 액성한계 | G39: 1 | H39: =MAX($L39,$M39,$N39,$O39) -> 45000 | I39: =+G39*H39 -> 45000 | L39: 45000 | M39: 42000 | N39: 40000 | O39: 43120
C40: 소성한계 | G40: 1 | H40: =MAX($L40,$M40,$N40,$O40) -> 43120 | I40: =+G40*H40 -> 43120 | L40: 40000 | M40: 40000 | N40: 40000 | O40: 43120
...

Sheet 부대공
A1: 11. 부대공 비용 산출근거
A2: 구 분 | B2: 공 종 | C2: 시 험 종 목 | D2: 시 험 빈 도 | E2: 설계수량 | F2: 단위량 | G2: 시험횟수 | H2: 단가 | I2: 금액 | J2: 비 고 | L2: KCL 단가 | M2: KTR 단가 | N2: KSTR 단가 | O2: 표준단가
A3: 부대공 비용 합계 | I3: =+I10+I16+I20+I31+I40+I54+I63+I73 -> 4393680
A4: 보차도용 자재 | B4: 인터로킹 블럭 | C4: 치수 | D4: 5만개당 | E4: =+수량입력!F116 -> 2400 | F4: 50000 | G4: =+INT(E4/F4)+1 -> 1 | H4: =MAX($L4,$M4,$N4,$O4) -> 15600 | I4: =+G4*H4 -> 15600 | L4: 15000 | M4: 15000 | N4: 15000 | O4: 15600
C5: 모양 | G5: =+G4 -> 1 | H5: =MAX($L5,$M5,$N5,$O5) -> 10400 | I5: =+G5*H5 -> 10400 | L5: 10000 | M5: 10000 | N5: 10000 | O5: 10400
C6: 휨강도 | G6: =+G5 -> 1 | H6: =MAX($L6,$M6,$N6,$O6) -> 62400 | I6: =+G6*H6 -> 62400 | L6: 50000 | M6: 48000 | N6: 45000 | O6: 62400
C7: 흡수율 | G7: =+G6 -> 1 | H7: =MAX($L7,$M7,$N7,$O7) -> 35000 | I7: =+G7*H7 -> 35000 | L7: 35000 | M7: 33000 | N7: 30000 | O7: 31200
C8: 유색층의 두께 | G8: =+G7 -> 1 | H8: =MAX($L8,$M8,$N8,$O8) -> 20800 | I8: =+G8*H8 -> 20800 | L8: 20000 | M8: 20000 | N8: 20000 | O8: 20800
C9: 투수 | G9: =+G8 -> 1 | H9: =MAX($L9,$M9,$N9,$O9) -> 124800 | I9: =+G9*H9 -> 124800 | L9: 60000 | M9: 58000 | N9: 55000 | O9: 124800
A10: 소 계 | I10: =SUM(I4:I9) -> 269000
A11: 보차도용 자재 | B11: 경계석 (콘크리트) | C11: 치수 | D11: 제조회사별 | E11: =+IF(수량입력!F117>0.1,1,0) -> 1 | F11: 1 | G11: =+E11*F11 -> 1 | H11: =MAX($L11,$M11,$N11,$O11) -> 15600 | I11: =+G11*H11 -> 15600 | L11: 15000 | M11: 15000 | N11: 15000 | O11: 15600
C12: 겉모양 | G12: =+G11 -> 1 | H12: =MAX($L12,$M12,$N12,$O12) -> 10400 | I12: =+G12*H12 -> 10400 | L12: 10000 | M12: 10000 | N12: 10000 | O12: 10400
C13: 휨강도 | G13: =+G12 -> 1 | H13: =MAX($L13,$M13,$N13,$O13) -> 62400 | I13: =+G13*H13 -> 62400 | L13: 50000 | M13: 48000 | N13: 45000 | O13: 62400
C14: 흡수율 | G14: =+G13 -> 1 | H14: =MAX($L14,$M14,$N14,$O14) -> 35000 | I14: =+G14*H14 -> 35000 | L14: 35000 | M14: 33000 | N14: 30000 | O14: 31200
C15: 표면층 두께 | G15: =+G14 -> 1 | H15: =MAX($L15,$M15,$N15,$O15) -> 20800 | I15: =+G15*H15 -> 20800 | L15: 20000 | M15: 20000 | N15: 20000 | O15: 20800
A16: 소 계 | I16: =SUM(I11:I15) -> 144200
A17: 보차도용 자재 | B17: 경계석 (석재) | C17: 밀도 및 흡수율 | D17: 제조회사별 재질변화시 마다 | E17: =+IF(수량입력!F118>0.1,1,0) -> 1 | F17: 1 | G17: =+E17*F17 -> 1 | H17: =MAX($L17,$M17,$N17,$O17) -> 40000 | I17: =+G17*H17 -> 40000 | L17: 40000 | M17: 38000 | N17: 38000 | O17: 31200
C18: 압축강도 | G18: =+G17 -> 1 | H18: =MAX($L18,$M18,$N18,$O18) -> 22880 | I18: =+G18*H18 -> 22880 | L18: 22000 | M18: 21000 | N18: 20000 | O18: 22880
C19: 시편가공 | G19: =+G18 -> 1 | H19: =MAX($L19,$M19,$N19,$O19) -> 26000 | I19: =+G19*H19 -> 26000 | L19: 25000 | M19: 25000 | N19: 25000 | O19: 26000
A20: 소 계 | I20: =SUM(I17:I19) -> 88880
A21: 가드레일 | B21: 레일 | C21: 화학성분 | D21: 제조회사별 규격별 | E21: =+IF(수량입력!F119>0.1,1,0) -> 1 | F21: 1 | G21: =+E21*F21 -> 1 | H21: =MAX($L21,$M21,$N21,$O21) -> 187200 | I21: =+G21*H21 -> 187200 | L21: 180000 | M21: 170000 | N21: 160000 | O21: 187200
C22: 인장강도 | G22: =+G21 -> 1 | H22: =MAX($L22,$M22,$N22,$O22) -> 55000 | I22: =+G22*H22 -> 55000 | L22: 55000 | M22: 52000 | N22: 45000 | O22: 52000
C23: 연신율 | G23: =+G22 -> 1 | H23: =MAX($L23,$M23,$N23,$O23) -> 55000 | I23: =+G23*H23 -> 55000 | L23: 55000 | M23: 52000 | N23: 45000 | O23: 52000
C24: 항복점 | G24: =+G23 -> 1 | H24: =MAX($L24,$M24,$N24,$O24) -> 55000 | I24: =+G24*H24 -> 55000 | L24: 55000 | M24: 52000 | N24: 45000 | O24: 52000
C25: 도금부착량 | G25: =+G24 -> 1 | H25: =MAX($L25,$M25,$N25,$O25) -> 67600 | I25: =+G25*H25 -> 67600 | L25: 45000 | M25: 42000 | N25: 40000 | O25: 67600
C26: 굴곡각도 | G26: =+G25 -> 1 | H26: =MAX($L26,$M26,$N26,$O26) -> 31200 | I26: =+G26*H26 -> 31200 | L26: 22000 | M26: 20000 | N26: 20000 | O26: 31200
B27: 빔형지주 , 원형지주 | C27: 수평지지력 | D27: 2개소/km당(일방향) | E27: =+수량입력!F119 -> 4800 | F27: 1000 | G27: =+INT(E27/F27*2) -> 9 | H27: =MAX($L27,$M27,$N27,$O27) -> 300000 | I27: =SUM(I21:I26) -> 451000 | L27: 300000 | M27: 별도협의 | N27: 별도협의 | O27: 별도협의
C28: 화학성분 | D28: 제조회사별 제품규격별 | E28: =+IF(수량입력!F120>0.1,1,0) -> 1 | F28: 1 | G28: =+E28*F28 -> 1 | H28: =MAX($L28,$M28,$N28,$O28) -> 187200 | I28: =+G28*H28 -> 187200 | L28: 180000 | M28: 170000 | N28: 160000 | O28: 187200
C29: 아연 부착량 | G29: =+G28 -> 1 | H29: =MAX($L29,$M29,$N29,$O29) -> 67600 | I29: =+G29*H29 -> 67600 | L29: 45000 | M29: 42000 | N29: 40000 | O29: 67600
C30: 기계적성질 | G30: =+G29 -> 1 | H30: =MAX($L30,$M30,$N30,$O30) -> 55000 | I30: =+G30*H30 -> 55000 | L30: 55000 | M30: 52000 | N30: 45000 | O30: 52000
A31: 소 계 | I31: =SUM(I21:I30) -> 1211800
A32: 도로부대시설 | B32: 가드휀스 | C32: 화학성분 | D32: 제조회사별 | E32: =+IF(수량입력!F121>0.1,1,0) -> 1 | F32: 1 | G32: =+E32*F32 -> 1 | H32: =MAX($L32,$M32,$N32,$O32) -> 187200 | I32: =+G32*H32 -> 187200 | L32: 180000 | M32: 170000 | N32: 160000 | O32: 187200
C33: 인장강도 | G33: =+G32 -> 1 | H33: =MAX($L33,$M33,$N33,$O33) -> 55000 | I33: =+G33*H33 -> 55000 | L33: 55000 | M33: 52000 | N33: 45000 | O33: 52000
C34: 연신율 | G34: =+G33 -> 1 | H34: =MAX($L34,$M34,$N34,$O34) -> 55000 | I34: =+G34*H34 -> 55000 | L34: 55000 | M34: 52000 | N34: 45000 | O34: 52000
C35: 아연도금 부착량 | G35: =+G34 -> 1 | H35: =MAX($L35,$M35,$N35,$O35) -> 67600 | I35: =+G35*H35 -> 67600 | L35: 45000 | M35: 42000 | N35: 40000 | O35: 67600
C36: 인장하중 | G36: =+G35 -> 1 | H36: =MAX($L36,$M36,$N36,$O36) -> 110000 | I36: =+G36*H36 -> 110000 | L36: 110000 | M36: 105000 | N36: 100000 | O36: 77000
C37: 항복 강도 | G37: =+G36 -> 1 | H37: =MAX($L37,$M37,$N37,$O37) -> 55000 | I37: =+G37*H37 -> 55000 | L37: 55000 | M37: 52000 | N37: 45000 | O37: 52000
C38: 인장력 | G38: =+G37 -> 1 | H38: =MAX($L38,$M38,$N38,$O38) -> 110000 | I38: =+G38*H38 -> 110000 | L38: 110000 | M38: 105000 | N38: 100000 | O38: 77000
C39: 굴곡각도 | G39: =+G38 -> 1 | H39: =MAX($L39,$M39,$N39,$O39) -> 31200 | I39: =+G39*H39 -> 31200 | L39: 22000 | M39: 20000 | N39: 20000 | O39: 31200
A40: 소 계 | I40: =SUM(I32:I39) -> 671000
...
